BEGIN:VCALENDAR
VERSION:2.0
PRODID:-//eventon.com NONSGML v1.0//EN
BEGIN:VEVENT
UID:69ead2192e361
DTSTAMP:20260424T041449
DTSTART:20210904T110000Z
DTEND:20210904T180000Z
LOCATION:
SUMMARY:Zürich Pride 2021
DESCRIPTION: 🌈 Les Jeunes Vert'libéraux genevois te donnent rendez-vous pour la Pride de Zürich organisée par les JVL CH\,  les JVL ZH et le réseau queer du PVL 🌈 Tu souhaites nous rejoindre ? Alors inscrire avec ce formulaire d'ici au 8 août 2021 : https://docs.google.com/forms/d/e/1FAIpQLSf6jr48m6A-dL8mXw3Vs3hEcjXNDRTjGUqdQhM0hzrdvzrh9Q/viewform Le programme : 12h30 :[..]
END:VEVENT
END:VCALENDAR